

BEGIN:VCALENDAR
VERSION:2.0
PRODID:-//Vergangenheit bewahren. Zukunft gestalten. - ECPv6.15.20//NONSGML v1.0//EN
CALSCALE:GREGORIAN
METHOD:PUBLISH
X-ORIGINAL-URL:https://heimatverein-wetter.de
X-WR-CALDESC:Veranstaltungen für Vergangenheit bewahren. Zukunft gestalten.
REFRESH-INTERVAL;VALUE=DURATION:PT1H
X-Robots-Tag:noindex
X-PUBLISHED-TTL:PT1H
BEGIN:VTIMEZONE
TZID:Europe/Berlin
BEGIN:DAYLIGHT
TZOFFSETFROM:+0100
TZOFFSETTO:+0200
TZNAME:CEST
DTSTART:20250330T010000
END:DAYLIGHT
BEGIN:STANDARD
TZOFFSETFROM:+0200
TZOFFSETTO:+0100
TZNAME:CET
DTSTART:20251026T010000
END:STANDARD
BEGIN:DAYLIGHT
TZOFFSETFROM:+0100
TZOFFSETTO:+0200
TZNAME:CEST
DTSTART:20260329T010000
END:DAYLIGHT
BEGIN:STANDARD
TZOFFSETFROM:+0200
TZOFFSETTO:+0100
TZNAME:CET
DTSTART:20261025T010000
END:STANDARD
BEGIN:DAYLIGHT
TZOFFSETFROM:+0100
TZOFFSETTO:+0200
TZNAME:CEST
DTSTART:20270328T010000
END:DAYLIGHT
BEGIN:STANDARD
TZOFFSETFROM:+0200
TZOFFSETTO:+0100
TZNAME:CET
DTSTART:20271031T010000
END:STANDARD
END:VTIMEZONE
BEGIN:VEVENT
DTSTART;TZID=Europe/Berlin:20260108T180000
DTEND;TZID=Europe/Berlin:20260108T200000
DTSTAMP:20260423T213322
CREATED:20251101T050010Z
LAST-MODIFIED:20260105T161356Z
UID:8321-1767895200-1767902400@heimatverein-wetter.de
SUMMARY:Vortrag - Verkehrswege rund um Wetter
DESCRIPTION:Hegestr. 12\n58300 Wetter (Ruhr)\n08. Mai 18:00 bis ca. 20:00 Uhr\nEintritt frei(willig) – Wir bitten um eine Spende. \nVortrag – Verkehrswege rund um Wetter\nvon Werner Wölke\n \nEine kleine Zeitreise über Straßen\, Eisenbahnen und Schifffahrt im Ruhrtal \n \nHinweis: Eine Platzreservierung ist aufgrund des beschränkten Platzangebotes empfohlen!\nReservierungsanfragen richten Sie bitte an: kontakt@heimatverein-wetter.de mit dem Betreff „Reservierung für …“. \n\n        \n          \n            \n            \n          \n        \n    \n 
URL:https://heimatverein-wetter.de/event/vortrag-verkehrswege-rund-um-wetter/
LOCATION:Heimatstube\, Hegestr. 12\, Wetter (Ruhr)\, NRW\, 58300\, Deutschland
CATEGORIES:Vorträge
ATTACH;FMTTYPE=image/jpeg:https://heimatverein-wetter.de/wp-content/uploads/2025/11/Vortrag-Woelke-1920x2715-1-scaled.jpg
ORGANIZER;CN="Heimatverein Wetter e.V.":MAILTO:kontakt@heimatverein-wetter.de
END:VEVENT
END:VCALENDAR